Package: cleaver Version: 1.40.0 Command: /home/biocbuild/R/R-4.3.1/bin/R CMD build --keep-empty-dirs --no-resave-data cleaver StartedAt: 2023-11-01 23:31:18 -0000 (Wed, 01 Nov 2023) EndedAt: 2023-11-01 23:31:45 -0000 (Wed, 01 Nov 2023) EllapsedTime: 27.0 seconds RetCode: 0 Status: OK PackageFile: cleaver_1.40.0.tar.gz PackageFileSize: 405.1 KiB