Package: chimeraviz Version: 1.28.0 Command: /home/biocbuild/bbs-3.18-bioc/R/bin/R CMD check --install=check:chimeraviz.install-out.txt --library=/home/biocbuild/bbs-3.18-bioc/R/site-library --timings chimeraviz_1.28.0.tar.gz StartedAt: 2024-04-15 21:08:23 -0400 (Mon, 15 Apr 2024) EndedAt: 2024-04-15 21:23:41 -0400 (Mon, 15 Apr 2024) EllapsedTime: 918.7 seconds RetCode: 0 Status: OK CheckDir: chimeraviz.Rcheck Warnings: 0