Package: chimeraviz Version: 1.28.0 Command: /Library/Frameworks/R.framework/Resources/bin/R CMD INSTALL chimeraviz StartedAt: 2024-03-03 15:28:10 -0500 (Sun, 03 Mar 2024) EndedAt: 2024-03-03 15:29:28 -0500 (Sun, 03 Mar 2024) EllapsedTime: 78.9 seconds RetCode: 0 Status: OK