Package: chimeraviz Version: 1.28.0 Command: /Library/Frameworks/R.framework/Resources/bin/R CMD build --keep-empty-dirs --no-resave-data chimeraviz StartedAt: 2024-03-03 16:12:50 -0500 (Sun, 03 Mar 2024) EndedAt: 2024-03-03 16:16:44 -0500 (Sun, 03 Mar 2024) EllapsedTime: 234.0 seconds RetCode: 0 Status: OK PackageFile: chimeraviz_1.28.0.tar.gz PackageFileSize: 3.613 MiB