Package: chimeraviz Version: 1.28.0 Command: rm -rf chimeraviz.buildbin-libdir && mkdir chimeraviz.buildbin-libdir && /Users/biocbuild/BBS/utils/build-universal.sh chimeraviz_1.28.0.tar.gz /Library/Frameworks/R.framework/Resources/bin/R chimeraviz.buildbin-libdir StartedAt: 2024-03-04 00:33:36 -0500 (Mon, 04 Mar 2024) EndedAt: 2024-03-04 00:35:00 -0500 (Mon, 04 Mar 2024) EllapsedTime: 83.2 seconds RetCode: 0 Status: OK PackageFile: chimeraviz_1.28.0.tgz PackageFileSize: 4.221 MiB