Package: chimeraviz Version: 1.28.0 Command: /home/biocbuild/R/R-4.3.1/bin/R CMD INSTALL chimeraviz StartedAt: 2023-11-01 20:38:46 -0000 (Wed, 01 Nov 2023) EndedAt: 2023-11-01 20:40:07 -0000 (Wed, 01 Nov 2023) EllapsedTime: 80.8 seconds RetCode: 0 Status: OK