Package: ccImpute Version: 1.4.0 Command: /home/biocbuild/bbs-3.18-bioc/R/bin/R CMD INSTALL ccImpute StartedAt: 2024-04-15 15:20:02 -0400 (Mon, 15 Apr 2024) EndedAt: 2024-04-15 15:20:26 -0400 (Mon, 15 Apr 2024) EllapsedTime: 24.9 seconds RetCode: 0 Status: OK