Package: branchpointer Version: 1.28.0 Command: rm -rf branchpointer.buildbin-libdir && mkdir branchpointer.buildbin-libdir && F:\biocbuild\bbs-3.18-bioc\R\bin\R.exe CMD INSTALL --build --library=branchpointer.buildbin-libdir branchpointer_1.28.0.tar.gz StartedAt: 2024-04-16 06:44:02 -0400 (Tue, 16 Apr 2024) EndedAt: 2024-04-16 06:45:08 -0400 (Tue, 16 Apr 2024) EllapsedTime: 65.6 seconds RetCode: 0 Status: OK PackageFile: branchpointer_1.28.0.zip PackageFileSize: 4.321 MiB