Package: bioassayR Version: 1.40.0 Command: /home/biocbuild/bbs-3.18-bioc/R/bin/R CMD build --keep-empty-dirs --no-resave-data bioassayR StartedAt: 2024-04-15 16:09:34 -0400 (Mon, 15 Apr 2024) EndedAt: 2024-04-15 16:10:34 -0400 (Mon, 15 Apr 2024) EllapsedTime: 59.9 seconds RetCode: 0 Status: OK PackageFile: bioassayR_1.40.0.tar.gz PackageFileSize: 4.574 MiB