Package: beadarraySNP Version: 1.68.0 Command: chmod a+r beadarraySNP -R && F:\biocbuild\bbs-3.18-bioc\R\bin\R.exe CMD build --keep-empty-dirs --no-resave-data beadarraySNP StartedAt: 2024-04-15 17:06:15 -0400 (Mon, 15 Apr 2024) EndedAt: 2024-04-15 17:06:47 -0400 (Mon, 15 Apr 2024) EllapsedTime: 32.5 seconds RetCode: 0 Status: OK PackageFile: beadarraySNP_1.68.0.tar.gz PackageFileSize: 571 KiB