Package: beadarraySNP Version: 1.68.0 Command: /home/biocbuild/R/R-4.3.1/bin/R CMD INSTALL beadarraySNP StartedAt: 2023-11-01 20:47:30 -0000 (Wed, 01 Nov 2023) EndedAt: 2023-11-01 20:47:45 -0000 (Wed, 01 Nov 2023) EllapsedTime: 15.0 seconds RetCode: 0 Status: OK