Package: basilisk.utils Version: 1.14.1 Command: /Library/Frameworks/R.framework/Resources/bin/R CMD INSTALL basilisk.utils StartedAt: 2024-03-03 15:06:49 -0500 (Sun, 03 Mar 2024) EndedAt: 2024-03-03 15:07:17 -0500 (Sun, 03 Mar 2024) EllapsedTime: 28.2 seconds RetCode: 0 Status: OK