Package: basilisk.utils Version: 1.14.1 Command: rm -rf basilisk.utils.buildbin-libdir && mkdir basilisk.utils.buildbin-libdir && /Users/biocbuild/BBS/utils/build-universal.sh basilisk.utils_1.14.1.tar.gz /Library/Frameworks/R.framework/Resources/bin/R basilisk.utils.buildbin-libdir StartedAt: 2024-03-04 00:29:54 -0500 (Mon, 04 Mar 2024) EndedAt: 2024-03-04 00:29:59 -0500 (Mon, 04 Mar 2024) EllapsedTime: 4.6 seconds RetCode: 0 Status: OK PackageFile: basilisk.utils_1.14.1.tgz PackageFileSize: 283.6 KiB