Package: appreci8R Version: 1.20.2 Command: /home/biocbuild/bbs-3.18-bioc/R/bin/R CMD INSTALL appreci8R StartedAt: 2024-04-15 15:53:05 -0400 (Mon, 15 Apr 2024) EndedAt: 2024-04-15 15:54:19 -0400 (Mon, 15 Apr 2024) EllapsedTime: 74.1 seconds RetCode: 0 Status: OK