Package: alabaster.matrix Version: 1.2.0 Command: rm -rf alabaster.matrix.buildbin-libdir && mkdir alabaster.matrix.buildbin-libdir && F:\biocbuild\bbs-3.18-bioc\R\bin\R.exe CMD INSTALL --build --library=alabaster.matrix.buildbin-libdir alabaster.matrix_1.2.0.tar.gz StartedAt: 2024-04-16 06:37:44 -0400 (Tue, 16 Apr 2024) EndedAt: 2024-04-16 06:38:10 -0400 (Tue, 16 Apr 2024) EllapsedTime: 26.1 seconds RetCode: 0 Status: OK PackageFile: alabaster.matrix_1.2.0.zip PackageFileSize: 582.2 KiB