Package: alabaster.base Version: 1.2.1 Command: /home/biocbuild/bbs-3.18-bioc/R/bin/R CMD build --keep-empty-dirs --no-resave-data alabaster.base StartedAt: 2024-04-15 15:56:03 -0400 (Mon, 15 Apr 2024) EndedAt: 2024-04-15 15:57:19 -0400 (Mon, 15 Apr 2024) EllapsedTime: 75.5 seconds RetCode: 0 Status: OK PackageFile: alabaster.base_1.2.1.tar.gz PackageFileSize: 765.3 KiB