Package: aggregateBioVar Version: 1.12.0 Command: rm -rf aggregateBioVar.buildbin-libdir && mkdir aggregateBioVar.buildbin-libdir && F:\biocbuild\bbs-3.18-bioc\R\bin\R.exe CMD INSTALL --build --library=aggregateBioVar.buildbin-libdir aggregateBioVar_1.12.0.tar.gz StartedAt: 2024-04-16 06:37:28 -0400 (Tue, 16 Apr 2024) EndedAt: 2024-04-16 06:37:58 -0400 (Tue, 16 Apr 2024) EllapsedTime: 30.0 seconds RetCode: 0 Status: OK PackageFile: aggregateBioVar_1.12.0.zip PackageFileSize: 1.535 MiB