Package: YAPSA Version: 1.28.0 Command: /home/biocbuild/R/R-4.3.1/bin/R CMD build --keep-empty-dirs --no-resave-data YAPSA StartedAt: 2023-11-02 07:30:10 -0000 (Thu, 02 Nov 2023) EndedAt: 2023-11-02 07:30:41 -0000 (Thu, 02 Nov 2023) EllapsedTime: 30.9 seconds RetCode: 1 Status: ERROR PackageFile: None PackageFileSize: NA