Package: XNAString Version: 1.10.0 Command: rm -rf XNAString.buildbin-libdir && mkdir XNAString.buildbin-libdir && /Users/biocbuild/BBS/utils/build-universal.sh XNAString_1.10.0.tar.gz /Library/Frameworks/R.framework/Resources/bin/R XNAString.buildbin-libdir StartedAt: 2024-04-16 12:57:10 -0400 (Tue, 16 Apr 2024) EndedAt: 2024-04-16 13:00:16 -0400 (Tue, 16 Apr 2024) EllapsedTime: 185.9 seconds RetCode: 0 Status: OK PackageFile: XNAString_1.10.0.tgz PackageFileSize: 1.701 MiB