Package: VariantAnnotation Version: 1.48.1 Command: rm -rf VariantAnnotation.buildbin-libdir && mkdir VariantAnnotation.buildbin-libdir && F:\biocbuild\bbs-3.18-bioc\R\bin\R.exe CMD INSTALL --build --library=VariantAnnotation.buildbin-libdir VariantAnnotation_1.48.1.tar.gz StartedAt: 2024-04-16 07:50:25 -0400 (Tue, 16 Apr 2024) EndedAt: 2024-04-16 07:52:24 -0400 (Tue, 16 Apr 2024) EllapsedTime: 119.4 seconds RetCode: 0 Status: OK PackageFile: VariantAnnotation_1.48.1.zip PackageFileSize: 7.764 MiB