Package: VCFArray Version: 1.18.0 Command: /Library/Frameworks/R.framework/Resources/bin/R CMD check --install=check:VCFArray.install-out.txt --library=/Library/Frameworks/R.framework/Resources/library --no-vignettes --timings VCFArray_1.18.0.tar.gz StartedAt: 2024-03-04 00:08:38 -0500 (Mon, 04 Mar 2024) EndedAt: 2024-03-04 00:14:26 -0500 (Mon, 04 Mar 2024) EllapsedTime: 348.0 seconds RetCode: 0 Status: OK CheckDir: VCFArray.Rcheck Warnings: 0