Package: TrajectoryGeometry Version: 1.10.1 Command: /Library/Frameworks/R.framework/Resources/bin/R CMD build --keep-empty-dirs --no-resave-data TrajectoryGeometry StartedAt: 2024-04-15 22:36:44 -0400 (Mon, 15 Apr 2024) EndedAt: 2024-04-15 22:51:04 -0400 (Mon, 15 Apr 2024) EllapsedTime: 859.7 seconds RetCode: 0 Status: OK PackageFile: TrajectoryGeometry_1.10.1.tar.gz PackageFileSize: 1.894 MiB