Package: TarSeqQC Version: 1.29.1 Command: /home/biocbuild/bbs-3.18-bioc/R/bin/R CMD INSTALL TarSeqQC StartedAt: 2023-04-20 03:59:34 -0400 (Thu, 20 Apr 2023) EndedAt: 2023-04-20 04:00:12 -0400 (Thu, 20 Apr 2023) EllapsedTime: 37.6 seconds RetCode: 0 Status: OK