Package: SparseSignatures Version: 2.12.0 Command: rm -rf SparseSignatures.buildbin-libdir && mkdir SparseSignatures.buildbin-libdir && F:\biocbuild\bbs-3.18-bioc\R\bin\R.exe CMD INSTALL --build --library=SparseSignatures.buildbin-libdir SparseSignatures_2.12.0.tar.gz StartedAt: 2024-04-16 07:43:56 -0400 (Tue, 16 Apr 2024) EndedAt: 2024-04-16 07:44:47 -0400 (Tue, 16 Apr 2024) EllapsedTime: 50.8 seconds RetCode: 0 Status: OK PackageFile: SparseSignatures_2.12.0.zip PackageFileSize: 1.507 MiB