Package: SparseSignatures Version: 2.12.0 Command: /Library/Frameworks/R.framework/Resources/bin/R CMD build --keep-empty-dirs --no-resave-data SparseSignatures StartedAt: 2024-04-15 22:12:21 -0400 (Mon, 15 Apr 2024) EndedAt: 2024-04-15 22:22:13 -0400 (Mon, 15 Apr 2024) EllapsedTime: 592.2 seconds RetCode: 0 Status: OK PackageFile: SparseSignatures_2.12.0.tar.gz PackageFileSize: 1.462 MiB