Package: SeqSQC Version: 1.24.1 Command: /home/biocbuild/bbs-3.18-bioc/R/bin/R CMD INSTALL SeqSQC StartedAt: 2024-04-15 15:52:10 -0400 (Mon, 15 Apr 2024) EndedAt: 2024-04-15 15:52:31 -0400 (Mon, 15 Apr 2024) EllapsedTime: 21.3 seconds RetCode: 0 Status: OK