Package: SeqArray Version: 1.42.4 Command: /Library/Frameworks/R.framework/Resources/bin/R CMD INSTALL SeqArray StartedAt: 2024-04-15 15:12:10 -0400 (Mon, 15 Apr 2024) EndedAt: 2024-04-15 15:13:36 -0400 (Mon, 15 Apr 2024) EllapsedTime: 85.3 seconds RetCode: 0 Status: OK