Package: SamSPECTRAL Version: 1.56.0 Command: /home/biocbuild/R/R-4.3.1/bin/R CMD build --keep-empty-dirs --no-resave-data SamSPECTRAL StartedAt: 2023-11-02 05:39:05 -0000 (Thu, 02 Nov 2023) EndedAt: 2023-11-02 05:41:29 -0000 (Thu, 02 Nov 2023) EllapsedTime: 144.2 seconds RetCode: 0 Status: OK PackageFile: SamSPECTRAL_1.56.0.tar.gz PackageFileSize: 925.4 KiB