Package: STATegRa Version: 1.38.0 Command: /home/biocbuild/bbs-3.18-bioc/R/bin/R CMD build --keep-empty-dirs --no-resave-data STATegRa StartedAt: 2024-04-15 19:28:14 -0400 (Mon, 15 Apr 2024) EndedAt: 2024-04-15 19:29:56 -0400 (Mon, 15 Apr 2024) EllapsedTime: 102.4 seconds RetCode: 0 Status: OK PackageFile: STATegRa_1.38.0.tar.gz PackageFileSize: 4.801 MiB