Package: STATegRa Version: 1.38.0 Command: /home/biocbuild/R/R-4.3.1/bin/R CMD build --keep-empty-dirs --no-resave-data STATegRa StartedAt: 2023-11-02 06:47:58 -0000 (Thu, 02 Nov 2023) EndedAt: 2023-11-02 06:51:31 -0000 (Thu, 02 Nov 2023) EllapsedTime: 212.4 seconds RetCode: 0 Status: OK PackageFile: STATegRa_1.38.0.tar.gz PackageFileSize: 4.906 MiB