Package: SPLINTER Version: 1.28.0 Command: /Library/Frameworks/R.framework/Resources/bin/R CMD INSTALL SPLINTER StartedAt: 2024-03-03 15:29:18 -0500 (Sun, 03 Mar 2024) EndedAt: 2024-03-03 15:30:28 -0500 (Sun, 03 Mar 2024) EllapsedTime: 69.8 seconds RetCode: 0 Status: OK