Package: SMITE Version: 1.30.0 Command: /home/biocbuild/bbs-3.18-bioc/R/bin/R CMD build --keep-empty-dirs --no-resave-data SMITE StartedAt: 2024-04-15 19:19:23 -0400 (Mon, 15 Apr 2024) EndedAt: 2024-04-15 19:20:31 -0400 (Mon, 15 Apr 2024) EllapsedTime: 68.4 seconds RetCode: 0 Status: OK PackageFile: SMITE_1.30.0.tar.gz PackageFileSize: 3.087 MiB