Package: SCnorm Version: 1.24.0 Command: /home/biocbuild/bbs-3.18-bioc/R/bin/R CMD build --keep-empty-dirs --no-resave-data SCnorm StartedAt: 2024-04-15 19:06:49 -0400 (Mon, 15 Apr 2024) EndedAt: 2024-04-15 19:08:26 -0400 (Mon, 15 Apr 2024) EllapsedTime: 97.8 seconds RetCode: 0 Status: OK PackageFile: SCnorm_1.24.0.tar.gz PackageFileSize: 2.975 MiB