Package: SCATE Version: 1.12.0 Command: /Library/Frameworks/R.framework/Resources/bin/R CMD build --keep-empty-dirs --no-resave-data SCATE StartedAt: 2024-03-03 18:09:55 -0500 (Sun, 03 Mar 2024) EndedAt: 2024-03-03 18:09:58 -0500 (Sun, 03 Mar 2024) EllapsedTime: 2.2 seconds RetCode: 1 Status: ERROR PackageFile: None PackageFileSize: NA