Package: SCATE Version: 1.11.0 Command: rm -rf SCATE.buildbin-libdir && mkdir SCATE.buildbin-libdir && /Users/biocbuild/BBS/utils/build-universal.sh SCATE_1.11.0.tar.gz /Library/Frameworks/R.framework/Resources/bin/R SCATE.buildbin-libdir StartedAt: 2023-06-20 00:03:35 -0400 (Tue, 20 Jun 2023) EndedAt: 2023-06-20 00:04:34 -0400 (Tue, 20 Jun 2023) EllapsedTime: 59.1 seconds RetCode: 0 Status: OK PackageFile: SCATE_1.11.0.tgz PackageFileSize: 326.4 KiB