Package: SC3 Version: 1.30.0 Command: rm -rf SC3.buildbin-libdir && mkdir SC3.buildbin-libdir && F:\biocbuild\bbs-3.18-bioc\R\bin\R.exe CMD INSTALL --build --library=SC3.buildbin-libdir SC3_1.30.0.tar.gz StartedAt: 2024-04-16 07:37:29 -0400 (Tue, 16 Apr 2024) EndedAt: 2024-04-16 07:38:37 -0400 (Tue, 16 Apr 2024) EllapsedTime: 68.1 seconds RetCode: 0 Status: OK PackageFile: SC3_1.30.0.zip PackageFileSize: 3.767 MiB