Package: S4Arrays Version: 1.2.1 Command: /home/biocbuild/bbs-3.18-bioc/R/bin/R CMD build --keep-empty-dirs --no-resave-data S4Arrays StartedAt: 2024-04-15 18:59:51 -0400 (Mon, 15 Apr 2024) EndedAt: 2024-04-15 19:00:10 -0400 (Mon, 15 Apr 2024) EllapsedTime: 18.6 seconds RetCode: 0 Status: OK PackageFile: S4Arrays_1.2.1.tar.gz PackageFileSize: 275.5 KiB