Package: Rtreemix Version: 1.64.0 Command: /home/biocbuild/bbs-3.18-bioc/R/bin/R CMD INSTALL Rtreemix StartedAt: 2024-04-15 15:26:14 -0400 (Mon, 15 Apr 2024) EndedAt: 2024-04-15 15:27:01 -0400 (Mon, 15 Apr 2024) EllapsedTime: 47.4 seconds RetCode: 0 Status: OK