Package: RnaSeqSampleSize Version: 2.12.0 Command: /home/biocbuild/R/R-4.3.1/bin/R CMD build --keep-empty-dirs --no-resave-data RnaSeqSampleSize StartedAt: 2023-11-02 05:27:25 -0000 (Thu, 02 Nov 2023) EndedAt: 2023-11-02 05:29:49 -0000 (Thu, 02 Nov 2023) EllapsedTime: 144.2 seconds RetCode: 0 Status: OK PackageFile: RnaSeqSampleSize_2.12.0.tar.gz PackageFileSize: 226.8 KiB