Package: Rhtslib Version: 2.4.1 Command: set _R_INSTALL_TIME_PATCHES_=no&& chmod a+r Rhtslib -R && F:\biocbuild\bbs-3.18-bioc\R\bin\R.exe CMD build --keep-empty-dirs --no-resave-data Rhtslib StartedAt: 2024-04-15 20:41:52 -0400 (Mon, 15 Apr 2024) EndedAt: 2024-04-15 20:43:27 -0400 (Mon, 15 Apr 2024) EllapsedTime: 95.3 seconds RetCode: 0 Status: OK PackageFile: Rhtslib_2.4.1.tar.gz PackageFileSize: 4.368 MiB