Package: Repitools Version: 1.48.0 Command: chmod a+r Repitools -R && F:\biocbuild\bbs-3.18-bioc\R\bin\R.exe CMD build --keep-empty-dirs --no-resave-data Repitools StartedAt: 2024-04-15 20:39:07 -0400 (Mon, 15 Apr 2024) EndedAt: 2024-04-15 20:40:36 -0400 (Mon, 15 Apr 2024) EllapsedTime: 89.1 seconds RetCode: 0 Status: OK PackageFile: Repitools_1.48.0.tar.gz PackageFileSize: 1.561 MiB