Package: ReactomeGSA Version: 1.16.1 Command: rm -rf ReactomeGSA.buildbin-libdir && mkdir ReactomeGSA.buildbin-libdir && F:\biocbuild\bbs-3.18-bioc\R\bin\R.exe CMD INSTALL --build --library=ReactomeGSA.buildbin-libdir ReactomeGSA_1.16.1.tar.gz StartedAt: 2024-04-16 07:31:23 -0400 (Tue, 16 Apr 2024) EndedAt: 2024-04-16 07:31:47 -0400 (Tue, 16 Apr 2024) EllapsedTime: 24.1 seconds RetCode: 0 Status: OK PackageFile: ReactomeGSA_1.16.1.zip PackageFileSize: 428.6 KiB