Package: RandomWalkRestartMH Version: 1.22.0 Command: rm -rf RandomWalkRestartMH.buildbin-libdir && mkdir RandomWalkRestartMH.buildbin-libdir && /Users/biocbuild/BBS/utils/build-universal.sh RandomWalkRestartMH_1.22.0.tar.gz /Library/Frameworks/R.framework/Resources/bin/R RandomWalkRestartMH.buildbin-libdir StartedAt: 2024-03-04 00:58:14 -0500 (Mon, 04 Mar 2024) EndedAt: 2024-03-04 00:58:32 -0500 (Mon, 04 Mar 2024) EllapsedTime: 18.2 seconds RetCode: 0 Status: OK PackageFile: RandomWalkRestartMH_1.22.0.tgz PackageFileSize: 2.909 MiB