Package: RNAmodR.RiboMethSeq Version: 1.16.0 Command: /Library/Frameworks/R.framework/Resources/bin/R CMD INSTALL RNAmodR.RiboMethSeq StartedAt: 2024-04-15 16:01:22 -0400 (Mon, 15 Apr 2024) EndedAt: 2024-04-15 16:03:18 -0400 (Mon, 15 Apr 2024) EllapsedTime: 115.7 seconds RetCode: 0 Status: OK