Package: RNAmodR.RiboMethSeq Version: 1.16.0 Command: /Library/Frameworks/R.framework/Resources/bin/R CMD INSTALL RNAmodR.RiboMethSeq StartedAt: 2024-03-03 15:29:42 -0500 (Sun, 03 Mar 2024) EndedAt: 2024-03-03 15:31:01 -0500 (Sun, 03 Mar 2024) EllapsedTime: 79.2 seconds RetCode: 0 Status: OK