Package: RNAmodR.ML Version: 1.16.0 Command: /Library/Frameworks/R.framework/Resources/bin/R CMD INSTALL RNAmodR.ML StartedAt: 2024-04-15 15:55:56 -0400 (Mon, 15 Apr 2024) EndedAt: 2024-04-15 15:57:54 -0400 (Mon, 15 Apr 2024) EllapsedTime: 118.4 seconds RetCode: 0 Status: OK