Package: RNAmodR.ML Version: 1.15.0 Command: /home/biocbuild/R/R-4.3.1/bin/R CMD check --install=check:RNAmodR.ML.install-out.txt --library=/home/biocbuild/R/R-4.3.1/site-library --timings RNAmodR.ML_1.15.0.tar.gz StartedAt: 2023-10-24 12:00:04 -0000 (Tue, 24 Oct 2023) EndedAt: 2023-10-24 12:13:41 -0000 (Tue, 24 Oct 2023) EllapsedTime: 817.3 seconds RetCode: 0 Status: OK CheckDir: RNAmodR.ML.Rcheck Warnings: 0