Package: RIVER Version: 1.26.0 Command: /home/biocbuild/bbs-3.18-bioc/R/bin/R CMD INSTALL RIVER StartedAt: 2024-04-15 15:37:59 -0400 (Mon, 15 Apr 2024) EndedAt: 2024-04-15 15:38:07 -0400 (Mon, 15 Apr 2024) EllapsedTime: 8.3 seconds RetCode: 0 Status: OK