Package: RITAN Version: 1.26.0 Command: /home/biocbuild/bbs-3.18-bioc/R/bin/R CMD build --keep-empty-dirs --no-resave-data RITAN StartedAt: 2024-04-15 18:51:52 -0400 (Mon, 15 Apr 2024) EndedAt: 2024-04-15 18:53:36 -0400 (Mon, 15 Apr 2024) EllapsedTime: 103.8 seconds RetCode: 0 Status: OK PackageFile: RITAN_1.26.0.tar.gz PackageFileSize: 546 KiB