Package: RCASPAR Version: 1.48.0 Command: /home/biocbuild/bbs-3.18-bioc/R/bin/R CMD build --keep-empty-dirs --no-resave-data RCASPAR StartedAt: 2024-04-15 18:44:40 -0400 (Mon, 15 Apr 2024) EndedAt: 2024-04-15 18:44:44 -0400 (Mon, 15 Apr 2024) EllapsedTime: 4.3 seconds RetCode: 0 Status: OK PackageFile: RCASPAR_1.48.0.tar.gz PackageFileSize: 203.5 KiB